{
 "currentVersion": 11.3,
 "serviceDescription": "Aerial_2024_Cache",
 "name": "Aerial_2024_Cache",
 "description": "",
 "extent": {
  "xmin": 2404499.9630208164,
  "ymin": 539999.8848958088,
  "xmax": 2467499.905937483,
  "ymax": 607500.0336458087,
  "spatialReference": {
   "wkid": 103046,
   "latestWkid": 6465
  }
 },
 "initialExtent": {
  "xmin": 2404499.9630208164,
  "ymin": 539999.8848958088,
  "xmax": 2467499.905937483,
  "ymax": 607500.0336458087,
  "spatialReference": {
   "wkid": 103046,
   "latestWkid": 6465
  }
 },
 "fullExtent": {
  "xmin": 2404499.9630208164,
  "ymin": 539999.8848958088,
  "xmax": 2467499.905937483,
  "ymax": 607500.0336458087,
  "spatialReference": {
   "wkid": 103046,
   "latestWkid": 6465
  }
 },
 "sortableFields": "",
 "bandCount": 3,
 "pixelType": "U8",
 "minValues": [],
 "maxValues": [],
 "meanValues": [],
 "stdvValues": [],
 "hasMultidimensions": false,
 "pixelSizeX": 0.24489583333333317,
 "pixelSizeY": 0.2448958333333331,
 "meanPixelSize": 0.07464439928879853,
 "datasetFormat": "AFR",
 "uncompressedSize": 212717562768,
 "blockWidth": 256,
 "blockHeight": 256,
 "compressionType": "None",
 "bandNames": [
  "Band_1",
  "Band_2",
  "Band_3"
 ],
 "allowCopy": true,
 "allowAnalysis": true,
 "itemAccess": false,
 "inspectionCapabilities": "",
 "minPixelSize": 0,
 "maxPixelSize": 0,
 "copyrightText": "",
 "serviceDataType": "esriImageServiceDataTypeRGB",
 "serviceSourceType": "esriImageServiceSourceTypeDataset",
 "objectIdField": "",
 "fields": [],
 "capabilities": "Image,Metadata,Mensuration",
 "defaultMosaicMethod": "Center",
 "allowedMosaicMethods": "",
 "sortField": "",
 "sortValue": null,
 "sortAscending": true,
 "mosaicOperator": "First",
 "defaultCompressionQuality": 75,
 "defaultResamplingMethod": "Bilinear",
 "maxImageHeight": 4100,
 "maxImageWidth": 15000,
 "allowRasterFunction": true,
 "rasterFunctionInfos": [
  {
   "name": "None",
   "description": "",
   "help": ""
  }
 ],
 "rasterTypeInfos": [
  {
   "name": "Raster Dataset",
   "description": "Supports all ArcGIS Raster Datasets",
   "help": ""
  }
 ],
 "mensurationCapabilities": "Basic",
 "hasHistograms": false,
 "hasColormap": false,
 "hasRasterAttributeTable": false,
 "minScale": 0,
 "maxScale": 0,
 "exportTilesAllowed": false,
 "supportsStatistics": false,
 "supportsAdvancedQueries": false,
 "editFieldsInfo": null,
 "ownershipBasedAccessControlForRasters": null,
 "allowComputeTiePoints": false,
 "useStandardizedQueries": true,
 "advancedQueryCapabilities": {
  "useStandardizedQueries": true,
  "supportsStatistics": false,
  "supportsOrderBy": false,
  "supportsDistinct": false,
  "supportsPagination": false
 },
 "spatialReference": {
  "wkid": 103046,
  "latestWkid": 6465
 }
}
